BEGIN:VCALENDAR
VERSION:2.0
PRODID:ParisBasketball
BEGIN:VEVENT
UID:PBB44838
DTSTART:20250927T183000Z
DTEND:20250927T203000Z
DTSTAMP:20260421T184743Z
DESCRIPTION:Gravelines-Dunkerque vs Paris, Betclic ÉLITE 1ère journée
LOCATION:Stade des Flandres Dunkerque
URL;VALUE=URI:https://parisbasketball.com/?p=44838
SUMMARY:Gravelines-Dunkerque - Paris Basketball
END:VEVENT
BEGIN:VEVENT
UID:PBB697
DTSTART:20251001T174500Z
DTEND:20251001T194500Z
DTSTAMP:20260421T184743Z
DESCRIPTION:Paris Basketball vs Crvena Zvezda Meridianbet Belgrade, EuroLeague 2024-25
LOCATION:ULKER SPORTS AND EVENT HALL
URL;VALUE=URI:https://parisbasketball.com/?p=697
SUMMARY:Fenerbahce Beko Istanbul - Paris Basketball
END:VEVENT
BEGIN:VEVENT
UID:PBB47453
DTSTART:20251003T193000Z
DTEND:20251003T213000Z
DTSTAMP:20260421T184743Z
DESCRIPTION:Maccabi Rapyd Tel Aviv vs Paris Basketball, EuroLeague 2025-26
LOCATION:ALEKSANDAR NIKOLIC HALL
URL;VALUE=URI:https://parisbasketball.com/?p=47453
SUMMARY:Maccabi Playtika Tel Aviv - Paris Basketball
END:VEVENT
BEGIN:VEVENT
UID:PBB44839
DTSTART:20251006T180000Z
DTEND:20251006T200000Z
DTSTAMP:20260421T184743Z
DESCRIPTION:Le Mans vs Paris, Betclic ÉLITE 2ème journée
LOCATION:Antares Le Mans
URL;VALUE=URI:https://parisbasketball.com/?p=44839
SUMMARY:Le Mans - Paris Basketball
END:VEVENT
BEGIN:VEVENT
UID:PBB32697
DTSTART:20251009T184500Z
DTEND:20251009T204500Z
DTSTAMP:20260421T184743Z
DESCRIPTION:Paris Basketball vs Virtus Segafredo Bologna, EuroLeague  2025-2026
LOCATION:ADIDAS ARENA
URL;VALUE=URI:https://parisbasketball.com/?p=32697
SUMMARY:Paris Basketball - Virtus Bologna
END:VEVENT
BEGIN:VEVENT
UID:PBB44840
DTSTART:20251012T170000Z
DTEND:20251012T190000Z
DTSTAMP:20260421T184743Z
DESCRIPTION:Paris Basketball vs Monaco, Betclic ÉLITE  2025-2026
LOCATION:Adidas Arena Paris
URL;VALUE=URI:https://parisbasketball.com/?p=44840
SUMMARY:Paris Basketball - Monaco
END:VEVENT
BEGIN:VEVENT
UID:PBB45579
DTSTART:20251015T184500Z
DTEND:20251015T204500Z
DTSTAMP:20260421T184743Z
DESCRIPTION:Paris Basketball vs Baskonia Vitoria-Gasteiz, EuroLeague 2025-26
LOCATION:ADIDAS ARENA
URL;VALUE=URI:https://parisbasketball.com/?p=45579
SUMMARY:Paris Basketball - Kosner Baskonia Vitoria-Gasteiz
END:VEVENT
BEGIN:VEVENT
UID:PBB32676
DTSTART:20251017T184500Z
DTEND:20251017T204500Z
DTSTAMP:20260421T184743Z
DESCRIPTION:Paris Basketball vs Hapoel IBI Tel Aviv, EuroLeague  2025-2026
LOCATION:ADIDAS ARENA
URL;VALUE=URI:https://parisbasketball.com/?p=32676
SUMMARY:Paris Basketball - Hapoel IBI Tel Aviv
END:VEVENT
BEGIN:VEVENT
UID:PBB44841
DTSTART:20251019T143000Z
DTEND:20251019T163000Z
DTSTAMP:20260421T184743Z
DESCRIPTION:Paris Basketball vs Dijon, Betclic ÉLITE  2025-2026
LOCATION:Adidas Arena Paris
URL;VALUE=URI:https://parisbasketball.com/?p=44841
SUMMARY:Paris Basketball - Dijon
END:VEVENT
BEGIN:VEVENT
UID:PBB32666
DTSTART:20251024T183000Z
DTEND:20251024T203000Z
DTSTAMP:20260421T184743Z
DESCRIPTION:Fenerbahce Beko Istanbul vs Partizan Mozzart Bet Belgrade, EuroLeague 2024-25
LOCATION:BELGRADE ARENA
URL;VALUE=URI:https://parisbasketball.com/?p=32666
SUMMARY:Partizan Mozzart Bet Belgrade - Paris Basketball
END:VEVENT
BEGIN:VEVENT
UID:PBB44842
DTSTART:20251026T180000Z
DTEND:20251026T200000Z
DTSTAMP:20260421T184743Z
DESCRIPTION:Chalon/Saône vs Paris, Betclic ÉLITE 5ème journée
LOCATION:Le Colisée Chalon/Saône
URL;VALUE=URI:https://parisbasketball.com/?p=44842
SUMMARY:Chalon/Saône - Paris Basketball
END:VEVENT
BEGIN:VEVENT
UID:PBB45586
DTSTART:20251028T194500Z
DTEND:20251028T214500Z
DTSTAMP:20260421T184743Z
DESCRIPTION:Paris Basketball vs Anadolu Efes Istanbul, EuroLeague 2025-26
LOCATION:ADIDAS ARENA
URL;VALUE=URI:https://parisbasketball.com/?p=45586
SUMMARY:Paris Basketball - Anadolu Efes Istanbul
END:VEVENT
BEGIN:VEVENT
UID:PBB32656
DTSTART:20251030T193000Z
DTEND:20251030T213000Z
DTSTAMP:20260421T184743Z
DESCRIPTION:FC Barcelona vs Baskonia Vitoria-Gasteiz, EuroLeague 2024-25
LOCATION:UNIPOL FORUM
URL;VALUE=URI:https://parisbasketball.com/?p=32656
SUMMARY:EA7 Emporio Armani Milan - Paris Basketball
END:VEVENT
BEGIN:VEVENT
UID:PBB44843
DTSTART:20251102T153000Z
DTEND:20251102T173000Z
DTSTAMP:20260421T184743Z
DESCRIPTION:Boulazac vs Paris, Betclic ÉLITE 6ème journée
LOCATION:Le Palio Boulazac
URL;VALUE=URI:https://parisbasketball.com/?p=44843
SUMMARY:Boulazac - Paris Basketball
END:VEVENT
BEGIN:VEVENT
UID:PBB689
DTSTART:20251106T200000Z
DTEND:20251106T220000Z
DTSTAMP:20260421T184743Z
DESCRIPTION:Paris Basketball vs FC Bayern Munich, EuroLeague  2025-2026
LOCATION:ADIDAS ARENA
URL;VALUE=URI:https://parisbasketball.com/?p=689
SUMMARY:Paris Basketball - FC Bayern Munich
END:VEVENT
BEGIN:VEVENT
UID:PBB44844
DTSTART:20251109T180000Z
DTEND:20251109T200000Z
DTSTAMP:20260421T184743Z
DESCRIPTION:Paris Basketball vs Limoges, Betclic ÉLITE  2025-2026
LOCATION:Adidas Arena Paris
URL;VALUE=URI:https://parisbasketball.com/?p=44844
SUMMARY:Paris Basketball - Limoges
END:VEVENT
BEGIN:VEVENT
UID:PBB32636
DTSTART:20251111T200000Z
DTEND:20251111T220000Z
DTSTAMP:20260421T184743Z
DESCRIPTION:Paris Basketball vs Panathinaikos AKTOR Athens, EuroLeague  2025-2026
LOCATION:ACCOR ARENA
URL;VALUE=URI:https://parisbasketball.com/?p=32636
SUMMARY:Paris Basketball - Panathinaikos AKTOR Athens
END:VEVENT
BEGIN:VEVENT
UID:PBB32628
DTSTART:20251113T194500Z
DTEND:20251113T214500Z
DTSTAMP:20260421T184743Z
DESCRIPTION:Paris Basketball vs Valencia Basket, EuroLeague  2025-2026
LOCATION:ADIDAS ARENA
URL;VALUE=URI:https://parisbasketball.com/?p=32628
SUMMARY:Paris Basketball - Valencia Basket
END:VEVENT
BEGIN:VEVENT
UID:PBB44845
DTSTART:20251115T193000Z
DTEND:20251115T213000Z
DTSTAMP:20260421T184743Z
DESCRIPTION:Bourg-en-Bresse vs Paris, Betclic ÉLITE 8ème journée
LOCATION:Ekinox Bourg-en-Bresse
URL;VALUE=URI:https://parisbasketball.com/?p=44845
SUMMARY:Bourg-en-Bresse - Paris Basketball
END:VEVENT
BEGIN:VEVENT
UID:PBB32615
DTSTART:20251121T191500Z
DTEND:20251121T211500Z
DTSTAMP:20260421T184743Z
DESCRIPTION:Virtus Segafredo Bologna vs ALBA Berlin, EuroLeague 2024-25
LOCATION:PEACE AND FRIENDSHIP STADIUM
URL;VALUE=URI:https://parisbasketball.com/?p=32615
SUMMARY:Olympiacos Piraeus - Paris Basketball
END:VEVENT
BEGIN:VEVENT
UID:PBB32610
DTSTART:20251125T160000Z
DTEND:20251125T180000Z
DTSTAMP:20260421T184743Z
DESCRIPTION:Real Madrid vs Fenerbahce Beko Istanbul, EuroLeague 2024-25
LOCATION:COCA-COLA ARENA
URL;VALUE=URI:https://parisbasketball.com/?p=32610
SUMMARY:Dubai Basketball - Paris Basketball
END:VEVENT
BEGIN:VEVENT
UID:PBB50508
DTSTART:20251202T183000Z
DTEND:20251202T203000Z
DTSTAMP:20260421T184743Z
DESCRIPTION:AS Monaco vs Paris Basketball, Coupe de France 2025-2026
LOCATION:SALLE GASTON MEDECIN
URL;VALUE=URI:https://parisbasketball.com/?p=50508
SUMMARY:AS Monaco - Paris Basketball
END:VEVENT
BEGIN:VEVENT
UID:PBB32602
DTSTART:20251204T183000Z
DTEND:20251204T203000Z
DTSTAMP:20260421T184743Z
DESCRIPTION:Real Madrid vs Zalgiris Kaunas, EuroLeague 2024-25
LOCATION:SALLE GASTON MEDECIN
URL;VALUE=URI:https://parisbasketball.com/?p=32602
SUMMARY:AS Monaco - Paris Basketball
END:VEVENT
BEGIN:VEVENT
UID:PBB44847
DTSTART:20251207T180000Z
DTEND:20251207T200000Z
DTSTAMP:20260421T184743Z
DESCRIPTION:Paris Basketball vs Saint-Quentin, Betclic ÉLITE  2025-2026
LOCATION:Adidas Arena Paris
URL;VALUE=URI:https://parisbasketball.com/?p=44847
SUMMARY:Paris Basketball - Saint-Quentin
END:VEVENT
BEGIN:VEVENT
UID:PBB44846
DTSTART:20251209T200000Z
DTEND:20251209T220000Z
DTSTAMP:20260421T184743Z
DESCRIPTION:Paris Basketball vs Le Portel, Betclic ÉLITE  2025-2026
LOCATION:Adidas Arena Paris
URL;VALUE=URI:https://parisbasketball.com/?p=44846
SUMMARY:Paris Basketball - Le Portel
END:VEVENT
BEGIN:VEVENT
UID:PBB32593
DTSTART:20251211T194500Z
DTEND:20251211T214500Z
DTSTAMP:20260421T184743Z
DESCRIPTION:Paris Basketball vs Zalgiris Kaunas, EuroLeague  2025-2026
LOCATION:ADIDAS ARENA
URL;VALUE=URI:https://parisbasketball.com/?p=32593
SUMMARY:Paris Basketball - Zalgiris Kaunas
END:VEVENT
BEGIN:VEVENT
UID:PBB44848
DTSTART:20251213T193000Z
DTEND:20251213T213000Z
DTSTAMP:20260421T184743Z
DESCRIPTION:Nancy vs Paris, Betclic ÉLITE 11ème journée
LOCATION:Palais des Sports J. Weille-Espace J.J. Eisenbach Nancy
URL;VALUE=URI:https://parisbasketball.com/?p=44848
SUMMARY:Nancy - Paris Basketball
END:VEVENT
BEGIN:VEVENT
UID:PBB32579
DTSTART:20251216T200000Z
DTEND:20251216T220000Z
DTSTAMP:20260421T184743Z
DESCRIPTION:Paris Basketball vs FC Barcelona, EuroLeague  2025-2026
LOCATION:ADIDAS ARENA
URL;VALUE=URI:https://parisbasketball.com/?p=32579
SUMMARY:Paris Basketball - FC Barcelona
END:VEVENT
BEGIN:VEVENT
UID:PBB32573
DTSTART:20251218T194500Z
DTEND:20251218T214500Z
DTSTAMP:20260421T184743Z
DESCRIPTION:ALBA Berlin vs AS Monaco, EuroLeague 2024-25
LOCATION:MOVISTAR ARENA
URL;VALUE=URI:https://parisbasketball.com/?p=32573
SUMMARY:Real Madrid - Paris Basketball
END:VEVENT
BEGIN:VEVENT
UID:PBB44849
DTSTART:20251221T180000Z
DTEND:20251221T200000Z
DTSTAMP:20260421T184743Z
DESCRIPTION:Paris Basketball vs Cholet, Betclic ÉLITE  2025-2026
LOCATION:Adidas Arena Paris
URL;VALUE=URI:https://parisbasketball.com/?p=44849
SUMMARY:Paris Basketball - Cholet
END:VEVENT
BEGIN:VEVENT
UID:PBB32563
DTSTART:20251223T194500Z
DTEND:20251223T214500Z
DTSTAMP:20260421T184743Z
DESCRIPTION:Paris Basketball vs Crvena Zvezda Meridianbet Belgrade, EuroLeague  2025-2026
LOCATION:ACCOR ARENA
URL;VALUE=URI:https://parisbasketball.com/?p=32563
SUMMARY:Paris Basketball - Crvena Zvezda Meridianbet Belgrade
END:VEVENT
BEGIN:VEVENT
UID:PBB44851
DTSTART:20251226T180000Z
DTEND:20251226T200000Z
DTSTAMP:20260421T184743Z
DESCRIPTION:Nanterre vs Paris, Betclic ÉLITE 14ème journée
LOCATION:Palais des Sports Maurice Thorez Nanterre
URL;VALUE=URI:https://parisbasketball.com/?p=44851
SUMMARY:Nanterre - Paris Basketball
END:VEVENT
BEGIN:VEVENT
UID:PBB32556
DTSTART:20251230T191500Z
DTEND:20251230T211500Z
DTSTAMP:20260421T184743Z
DESCRIPTION:EA7 Emporio Armani Milan vs ALBA Berlin, EuroLeague 2024-25
LOCATION:LDLC ARENA
URL;VALUE=URI:https://parisbasketball.com/?p=32556
SUMMARY:LDLC ASVEL Villeurbanne - Paris Basketball
END:VEVENT
BEGIN:VEVENT
UID:PBB32542
DTSTART:20260107T173000Z
DTEND:20260107T193000Z
DTSTAMP:20260421T184743Z
DESCRIPTION:Anadolu Efes Istanbul vs EA7 Emporio Armani Milan, EuroLeague 2024-25
LOCATION:TURKCELL BASKETBALL DEVELOPMENT CENTER
URL;VALUE=URI:https://parisbasketball.com/?p=32542
SUMMARY:Anadolu Efes Istanbul - Paris Basketball
END:VEVENT
BEGIN:VEVENT
UID:PBB44853
DTSTART:20260111T180000Z
DTEND:20260111T200000Z
DTSTAMP:20260421T184743Z
DESCRIPTION:Lyon-Villeurbanne vs Paris, Betclic ÉLITE 15ème journée
LOCATION:Astroballe Villeurbanne
URL;VALUE=URI:https://parisbasketball.com/?p=44853
SUMMARY:Lyon-Villeurbanne - Paris Basketball
END:VEVENT
BEGIN:VEVENT
UID:PBB44850
DTSTART:20260113T201000Z
DTEND:20260113T221000Z
DTSTAMP:20260421T184743Z
DESCRIPTION:Paris Basketball vs Strasbourg, Betclic ÉLITE  2025-2026
LOCATION:Adidas Arena Paris
URL;VALUE=URI:https://parisbasketball.com/?p=44850
SUMMARY:Paris Basketball - Strasbourg
END:VEVENT
BEGIN:VEVENT
UID:PBB32529
DTSTART:20260115T194500Z
DTEND:20260115T214500Z
DTSTAMP:20260421T184743Z
DESCRIPTION:Paris Basketball vs AS Monaco, EuroLeague  2025-2026
LOCATION:ADIDAS ARENA
URL;VALUE=URI:https://parisbasketball.com/?p=32529
SUMMARY:Paris Basketball - AS Monaco
END:VEVENT
BEGIN:VEVENT
UID:PBB44855
DTSTART:20260118T180000Z
DTEND:20260118T200000Z
DTSTAMP:20260421T184743Z
DESCRIPTION:Paris Basketball vs Le Mans, Betclic ÉLITE  2025-2026
LOCATION:Adidas Arena Paris
URL;VALUE=URI:https://parisbasketball.com/?p=44855
SUMMARY:Paris Basketball - Le Mans
END:VEVENT
BEGIN:VEVENT
UID:PBB32516
DTSTART:20260120T193000Z
DTEND:20260120T213000Z
DTSTAMP:20260421T184743Z
DESCRIPTION:Zalgiris Kaunas vs EA7 Emporio Armani Milan, EuroLeague 2024-25
LOCATION:ROIG ARENA
URL;VALUE=URI:https://parisbasketball.com/?p=32516
SUMMARY:Valencia Basket - Paris Basketball
END:VEVENT
BEGIN:VEVENT
UID:PBB672
DTSTART:20260122T200000Z
DTEND:20260122T220000Z
DTSTAMP:20260421T184743Z
DESCRIPTION:Paris Basketball vs Dubai Basketball, EuroLeague  2025-2026
LOCATION:ADIDAS ARENA
URL;VALUE=URI:https://parisbasketball.com/?p=672
SUMMARY:Paris Basketball - Dubai Basketball
END:VEVENT
BEGIN:VEVENT
UID:PBB44857
DTSTART:20260124T193000Z
DTEND:20260124T213000Z
DTSTAMP:20260421T184743Z
DESCRIPTION:Le Portel vs Paris, Betclic ÉLITE 17ème journée
LOCATION:Le Chaudron Le Portel
URL;VALUE=URI:https://parisbasketball.com/?p=44857
SUMMARY:Le Portel - Paris Basketball
END:VEVENT
BEGIN:VEVENT
UID:PBB32505
DTSTART:20260127T200000Z
DTEND:20260127T220000Z
DTSTAMP:20260421T184743Z
DESCRIPTION:Paris Basketball vs Real Madrid, EuroLeague  2025-2026
LOCATION:ADIDAS ARENA
URL;VALUE=URI:https://parisbasketball.com/?p=32505
SUMMARY:Paris Basketball - Real Madrid
END:VEVENT
BEGIN:VEVENT
UID:PBB44859
DTSTART:20260201T153000Z
DTEND:20260201T173000Z
DTSTAMP:20260421T184743Z
DESCRIPTION:Paris Basketball vs Boulazac, Betclic ÉLITE  2025-2026
LOCATION:Adidas Arena Paris
URL;VALUE=URI:https://parisbasketball.com/?p=44859
SUMMARY:Paris Basketball - Boulazac
END:VEVENT
BEGIN:VEVENT
UID:PBB32490
DTSTART:20260203T193000Z
DTEND:20260203T213000Z
DTSTAMP:20260421T184743Z
DESCRIPTION:Virtus Segafredo Bologna vs Real Madrid, EuroLeague 2024-25
LOCATION:SAP GARDEN
URL;VALUE=URI:https://parisbasketball.com/?p=32490
SUMMARY:FC Bayern Munich - Paris Basketball
END:VEVENT
BEGIN:VEVENT
UID:PBB32484
DTSTART:20260205T194500Z
DTEND:20260205T214500Z
DTSTAMP:20260421T184743Z
DESCRIPTION:Paris Basketball vs Fenerbahce Beko Istanbul, EuroLeague  2025-2026
LOCATION:ADIDAS ARENA
URL;VALUE=URI:https://parisbasketball.com/?p=32484
SUMMARY:Paris Basketball - Fenerbahce Beko Istanbul
END:VEVENT
BEGIN:VEVENT
UID:PBB44861
DTSTART:20260207T193000Z
DTEND:20260207T213000Z
DTSTAMP:20260421T184743Z
DESCRIPTION:Paris Basketball vs Nancy, Betclic ÉLITE  2025-2026
LOCATION:Adidas Arena Paris
URL;VALUE=URI:https://parisbasketball.com/?p=44861
SUMMARY:Paris Basketball - Nancy
END:VEVENT
BEGIN:VEVENT
UID:PBB32475
DTSTART:20260212T193000Z
DTEND:20260212T213000Z
DTSTAMP:20260421T184743Z
DESCRIPTION:Partizan Mozzart Bet Belgrade vs ALBA Berlin, EuroLeague 2024-25
LOCATION:PALAU BLAUGRANA
URL;VALUE=URI:https://parisbasketball.com/?p=32475
SUMMARY:FC Barcelona - Paris Basketball
END:VEVENT
BEGIN:VEVENT
UID:PBB44863
DTSTART:20260215T153000Z
DTEND:20260215T173000Z
DTSTAMP:20260421T184743Z
DESCRIPTION:Saint-Quentin vs Paris, Betclic ÉLITE 20ème journée
LOCATION:Palais des Sports Pierre Ratte Saint-Quentin
URL;VALUE=URI:https://parisbasketball.com/?p=44863
SUMMARY:Saint-Quentin - Paris Basketball
END:VEVENT
BEGIN:VEVENT
UID:PBB32461
DTSTART:20260226T194500Z
DTEND:20260226T214500Z
DTSTAMP:20260421T184743Z
DESCRIPTION:Panathinaikos AKTOR Athens vs Paris, EuroLeague 2025-26
LOCATION:TELEKOM CENTER ATHENS
URL;VALUE=URI:https://parisbasketball.com/?p=32461
SUMMARY:Panathinaikos AKTOR Athens - Paris Basketball
END:VEVENT
BEGIN:VEVENT
UID:PBB32454
DTSTART:20260306T193000Z
DTEND:20260306T213000Z
DTSTAMP:20260421T184743Z
DESCRIPTION:FC Bayern Munich vs Fenerbahce Beko Istanbul, EuroLeague 2024-25
LOCATION:BUESA ARENA
URL;VALUE=URI:https://parisbasketball.com/?p=32454
SUMMARY:Kosner Baskonia Vitoria-Gasteiz - Paris Basketball
END:VEVENT
BEGIN:VEVENT
UID:PBB44865
DTSTART:20260308T180000Z
DTEND:20260308T200000Z
DTSTAMP:20260421T184743Z
DESCRIPTION:Limoges vs Paris, Betclic ÉLITE 21ème journée
LOCATION:Palais des Sports de Beaublanc Limoges
URL;VALUE=URI:https://parisbasketball.com/?p=44865
SUMMARY:Limoges - Paris Basketball
END:VEVENT
BEGIN:VEVENT
UID:PBB44354
DTSTART:20260310T194500Z
DTEND:20260310T214500Z
DTSTAMP:20260421T184743Z
DESCRIPTION:Paris Basketball vs Olympiacos Piraeus, EuroLeague  2025-2026
LOCATION:ADIDAS ARENA
URL;VALUE=URI:https://parisbasketball.com/?p=44354
SUMMARY:Paris Basketball - Olympiacos Piraeus
END:VEVENT
BEGIN:VEVENT
UID:PBB654
DTSTART:20260312T194500Z
DTEND:20260312T214500Z
DTSTAMP:20260421T184743Z
DESCRIPTION:Paris Basketball vs LDLC ASVEL Villeurbanne, EuroLeague  2025-2026
LOCATION:ADIDAS ARENA
URL;VALUE=URI:https://parisbasketball.com/?p=654
SUMMARY:Paris Basketball - LDLC ASVEL Villeurbanne
END:VEVENT
BEGIN:VEVENT
UID:PBB44867
DTSTART:20260315T153000Z
DTEND:20260315T173000Z
DTSTAMP:20260421T184743Z
DESCRIPTION:Paris Basketball vs Gravelines-Dunkerque, Betclic ÉLITE  2025-2026
LOCATION:Adidas Arena Paris
URL;VALUE=URI:https://parisbasketball.com/?p=44867
SUMMARY:Paris Basketball - Gravelines-Dunkerque
END:VEVENT
BEGIN:VEVENT
UID:PBB56195
DTSTART:20260317T150000Z
DTEND:20260317T170000Z
DTSTAMP:20260421T184743Z
DESCRIPTION:Hapoel IBI Tel Aviv vs Paris Basketball, EuroLeague 2025-26
LOCATION:ARENA 8888 SOFIA
URL;VALUE=URI:https://parisbasketball.com/?p=56195
SUMMARY:Hapoel IBI Tel Aviv - Paris Basketball
END:VEVENT
BEGIN:VEVENT
UID:PBB40373
DTSTART:20260319T194500Z
DTEND:20260319T214500Z
DTSTAMP:20260421T184743Z
DESCRIPTION:Paris Basketball vs Partizan Mozzart Bet Belgrade, EuroLeague  2025-2026
LOCATION:ADIDAS ARENA
URL;VALUE=URI:https://parisbasketball.com/?p=40373
SUMMARY:Paris Basketball - Partizan Mozzart Bet Belgrade
END:VEVENT
BEGIN:VEVENT
UID:PBB44869
DTSTART:20260322T180000Z
DTEND:20260322T200000Z
DTSTAMP:20260421T184743Z
DESCRIPTION:Paris Basketball vs Bourg-en-Bresse, Betclic ÉLITE  2025-2026
LOCATION:Adidas Arena Paris
URL;VALUE=URI:https://parisbasketball.com/?p=44869
SUMMARY:Paris Basketball - Bourg-en-Bresse
END:VEVENT
BEGIN:VEVENT
UID:PBB44871
DTSTART:20260327T193000Z
DTEND:20260327T213000Z
DTSTAMP:20260421T184743Z
DESCRIPTION:Dijon vs Paris, Betclic ÉLITE 24ème journée
LOCATION:Palais des Sports J.M. Geoffroy Dijon
URL;VALUE=URI:https://parisbasketball.com/?p=44871
SUMMARY:Dijon - Paris Basketball
END:VEVENT
BEGIN:VEVENT
UID:PBB40362
DTSTART:20260331T184500Z
DTEND:20260331T204500Z
DTSTAMP:20260421T184743Z
DESCRIPTION:Panathinaikos AKTOR Athens vs Anadolu Efes Istanbul, EuroLeague 2024-25
LOCATION:PALADOZZA
URL;VALUE=URI:https://parisbasketball.com/?p=40362
SUMMARY:Virtus Bologna - Paris Basketball
END:VEVENT
BEGIN:VEVENT
UID:PBB44353
DTSTART:20260402T184500Z
DTEND:20260402T204500Z
DTSTAMP:20260421T184743Z
DESCRIPTION:Paris Basketball vs EA7 Emporio Armani Milan, EuroLeague  2025-2026
LOCATION:ADIDAS ARENA
URL;VALUE=URI:https://parisbasketball.com/?p=44353
SUMMARY:Paris Basketball - EA7 Emporio Armani Milan
END:VEVENT
BEGIN:VEVENT
UID:PBB44873
DTSTART:20260404T190000Z
DTEND:20260404T210000Z
DTSTAMP:20260421T184743Z
DESCRIPTION:Paris Basketball vs Nanterre, Betclic ÉLITE  2025-2026
LOCATION:Adidas Arena Paris
URL;VALUE=URI:https://parisbasketball.com/?p=44873
SUMMARY:Paris Basketball - Nanterre
END:VEVENT
BEGIN:VEVENT
UID:PBB44352
DTSTART:20260407T180000Z
DTEND:20260407T200000Z
DTSTAMP:20260421T184743Z
DESCRIPTION:Crvena Zvezda Meridianbet Belgrade vs Paris Basketball, EuroLeague 2025-26
LOCATION:BELGRADE ARENA
URL;VALUE=URI:https://parisbasketball.com/?p=44352
SUMMARY:Crvena Zvezda Meridianbet Belgrade - Paris Basketball
END:VEVENT
BEGIN:VEVENT
UID:PBB44351
DTSTART:20260409T190000Z
DTEND:20260409T210000Z
DTSTAMP:20260421T184743Z
DESCRIPTION:Paris Basketball vs Maccabi Playtika Tel Aviv, EuroLeague  2025-2026
LOCATION:ADIDAS ARENA
URL;VALUE=URI:https://parisbasketball.com/?p=44351
SUMMARY:Paris Basketball - Maccabi Playtika Tel Aviv
END:VEVENT
BEGIN:VEVENT
UID:PBB44877
DTSTART:20260411T183000Z
DTEND:20260411T203000Z
DTSTAMP:20260421T184743Z
DESCRIPTION:Strasbourg vs Paris, Betclic ÉLITE 26ème journée
LOCATION:Rhénus Sport Strasbourg
URL;VALUE=URI:https://parisbasketball.com/?p=44877
SUMMARY:Strasbourg - Paris Basketball
END:VEVENT
BEGIN:VEVENT
UID:PBB44350
DTSTART:20260417T170000Z
DTEND:20260417T190000Z
DTSTAMP:20260421T184743Z
DESCRIPTION:Zalgiris Kaunas vs Paris Basketball, EuroLeague 2025-26
LOCATION:ZALGIRIO ARENA
URL;VALUE=URI:https://parisbasketball.com/?p=44350
SUMMARY:Zalgiris Kaunas - Paris Basketball
END:VEVENT
BEGIN:VEVENT
UID:PBB44878
DTSTART:20260419T143000Z
DTEND:20260419T163000Z
DTSTAMP:20260421T184743Z
DESCRIPTION:Cholet vs Paris, Betclic ÉLITE 27ème journée
LOCATION:La Meilleraie Cholet
URL;VALUE=URI:https://parisbasketball.com/?p=44878
SUMMARY:Cholet - Paris Basketball
END:VEVENT
BEGIN:VEVENT
UID:PBB44879
DTSTART:20260502T183000Z
DTEND:20260502T203000Z
DTSTAMP:20260421T184743Z
DESCRIPTION:Paris Basketball vs Chalon/Saône, Betclic ÉLITE  2025-2026
LOCATION:Adidas Arena Paris
URL;VALUE=URI:https://parisbasketball.com/?p=44879
SUMMARY:Paris Basketball - Chalon/Saône
END:VEVENT
BEGIN:VEVENT
UID:PBB44880
DTSTART:20260510T171500Z
DTEND:20260510T191500Z
DTSTAMP:20260421T184743Z
DESCRIPTION:Monaco vs Paris, Betclic ÉLITE 29ème journée
LOCATION:Salle Gaston Médecin Monaco
URL;VALUE=URI:https://parisbasketball.com/?p=44880
SUMMARY:Monaco - Paris Basketball
END:VEVENT
BEGIN:VEVENT
UID:PBB44881
DTSTART:20260516T170000Z
DTEND:20260516T190000Z
DTSTAMP:20260421T184743Z
DESCRIPTION:Paris Basketball vs Lyon-Villeurbanne, Betclic ÉLITE  2025-2026
LOCATION:Adidas Arena Paris
URL;VALUE=URI:https://parisbasketball.com/?p=44881
SUMMARY:Paris Basketball - Lyon-Villeurbanne
END:VEVENT
END:VCALENDAR
